BEGIN:VCALENDAR
VERSION:2.0
PRODID:-//wp-events-plugin.com//7.2.3.1//EN
TZID:Europe/Paris
X-WR-TIMEZONE:Europe/Paris
BEGIN:VEVENT
UID:287@clubsubaquatiquegrenoble.fr
DTSTART;TZID=Europe/Paris:20230423T100000
DTEND;TZID=Europe/Paris:20230423T121500
DTSTAMP:20230204T175909Z
URL:https://clubsubaquatiquegrenoble.fr/events/fosse-meyzieu-8/
SUMMARY:Fosse Meyzieu
DESCRIPTION:
CATEGORIES:Sortie tech
LOCATION:Fosse Meyzieu\, Les Vagues\, Meyzieu\, France
GEO:45.769379;5.013155900000015
X-APPLE-STRUCTURED-LOCATION;VALUE=URI;X-ADDRESS=Les Vagues\, Meyzieu\, Fran
 ce;X-APPLE-RADIUS=100;X-TITLE=Fosse Meyzieu:geo:45.769379,5.01315590000001
 5
END:VEVENT
BEGIN:VTIMEZONE
TZID:Europe/Paris
X-LIC-LOCATION:Europe/Paris
BEGIN:DAYLIGHT
DTSTART:20230326T030000
TZOFFSETFROM:+0100
TZOFFSETTO:+0200
TZNAME:CEST
END:DAYLIGHT
END:VTIMEZONE
END:VCALENDAR